BEGIN:VCALENDAR
VERSION:2.0
PRODID:-//AHARS - ECPv6.15.20//NONSGML v1.0//EN
CALSCALE:GREGORIAN
METHOD:PUBLISH
X-WR-CALNAME:AHARS
X-ORIGINAL-URL:https://ahars.au
X-WR-CALDESC:Events for AHARS
REFRESH-INTERVAL;VALUE=DURATION:PT1H
X-Robots-Tag:noindex
X-PUBLISHED-TTL:PT1H
BEGIN:VTIMEZONE
TZID:Australia/Adelaide
BEGIN:STANDARD
TZOFFSETFROM:+1030
TZOFFSETTO:+0930
TZNAME:ACST
DTSTART:20250405T163000
END:STANDARD
BEGIN:DAYLIGHT
TZOFFSETFROM:+0930
TZOFFSETTO:+1030
TZNAME:ACDT
DTSTART:20251004T163000
END:DAYLIGHT
BEGIN:STANDARD
TZOFFSETFROM:+1030
TZOFFSETTO:+0930
TZNAME:ACST
DTSTART:20260404T163000
END:STANDARD
BEGIN:DAYLIGHT
TZOFFSETFROM:+0930
TZOFFSETTO:+1030
TZNAME:ACDT
DTSTART:20261003T163000
END:DAYLIGHT
BEGIN:STANDARD
TZOFFSETFROM:+1030
TZOFFSETTO:+0930
TZNAME:ACST
DTSTART:20270403T163000
END:STANDARD
BEGIN:DAYLIGHT
TZOFFSETFROM:+0930
TZOFFSETTO:+1030
TZNAME:ACDT
DTSTART:20271002T163000
END:DAYLIGHT
END:VTIMEZONE
BEGIN:VEVENT
DTSTART;TZID=Australia/Adelaide:20260410T113000
DTEND;TZID=Australia/Adelaide:20260410T143000
DTSTAMP:20260421T175025
CREATED:20260309T035010Z
LAST-MODIFIED:20260407T024057Z
UID:1869-1775820600-1775831400@ahars.au
SUMMARY:Informal AHARS Club Lunch at Torrens Arms Hotel
DESCRIPTION:Informal AHARS Club lunch gathering at the Torrens Arms Hotel. 11:30am to 2:30pm. \nCome along for lunch and a chat with other members.
URL:https://ahars.au/event/informal-ahars-club-lunch-at-torrens-arms-hotel-2/
LOCATION:Torrens Arms Hotel\, 95 Belair Rd\, Kingswood\, SA\, 5062\, Australia
END:VEVENT
BEGIN:VEVENT
DTSTART;TZID=Australia/Adelaide:20260416T193000
DTEND;TZID=Australia/Adelaide:20260416T220000
DTSTAMP:20260421T175025
CREATED:20250221T115549Z
LAST-MODIFIED:20260412T050414Z
UID:1168-1776367800-1776376800@ahars.au
SUMMARY:General Monthly Meeting\, April
DESCRIPTION:Tonights Speaker is\, Tim Dixon VK5ZT and will cover the development of 3.4GHz panel transmitters. Tim has developed considerable skills in operating in the top end of the spectrum from VHF right through to long distance transmission of light. \nAs usual\, we will have Coffee\, Tea\, and a biscuit or cake with our enlightned and informed conversation. \nSee you all there. 73 \nPaul\nPresident AHARS
URL:https://ahars.au/event/general-monthly-meeting-15/
LOCATION:Blackwood Uniting Church\, 266 Main Rd\, Blackwood\, SA\, 5051\, Australia
END:VEVENT
BEGIN:VEVENT
DTSTART;TZID=Australia/Adelaide:20260424T113000
DTEND;TZID=Australia/Adelaide:20260424T143000
DTSTAMP:20260421T175025
CREATED:20260203T043217Z
LAST-MODIFIED:20260407T024145Z
UID:1729-1777030200-1777041000@ahars.au
SUMMARY:Informal AHARS Club Lunch at Torrens Arms Hotel
DESCRIPTION:Informal AHARS Club lunch gathering at the Torrens Arms Hotel. 11:30am to 2:30pm. \nCome along for lunch and a chat with other members.
URL:https://ahars.au/event/informal-ahars-club-lunch-at-torrens-arms-hotel/
LOCATION:Torrens Arms Hotel\, 95 Belair Rd\, Kingswood\, SA\, 5062\, Australia
END:VEVENT
END:VCALENDAR